Package: REDseq Version: 1.53.0 Command: /home/biocbuild/bbs-3.21-bioc/R/bin/R CMD INSTALL REDseq StartedAt: 2025-02-18 15:49:17 -0500 (Tue, 18 Feb 2025) EndedAt: 2025-02-18 15:50:02 -0500 (Tue, 18 Feb 2025) EllapsedTime: 45.1 seconds RetCode: 0 Status: OK