Package: REDseq Version: 1.53.0 Command: /Library/Frameworks/R.framework/Resources/bin/R CMD check --install=check:REDseq.install-out.txt --library=/Library/Frameworks/R.framework/Resources/library --no-vignettes --timings REDseq_1.53.0.tar.gz StartedAt: 2025-02-19 22:42:13 -0500 (Wed, 19 Feb 2025) EndedAt: 2025-02-19 22:47:46 -0500 (Wed, 19 Feb 2025) EllapsedTime: 333.4 seconds RetCode: 0 Status: OK CheckDir: REDseq.Rcheck Warnings: 0