Package: REDseq Version: 1.53.0 Command: rm -rf REDseq.buildbin-libdir && mkdir REDseq.buildbin-libdir && /Users/biocbuild/BBS/utils/build-universal.sh REDseq_1.53.0.tar.gz /Library/Frameworks/R.framework/Resources/bin/R REDseq.buildbin-libdir StartedAt: 2025-02-19 00:42:16 -0500 (Wed, 19 Feb 2025) EndedAt: 2025-02-19 00:43:21 -0500 (Wed, 19 Feb 2025) EllapsedTime: 64.6 seconds RetCode: 0 Status: OK PackageFile: REDseq_1.53.0.tgz PackageFileSize: 417.2 KiB