Package: REDseq Version: 1.53.0 Command: /Library/Frameworks/R.framework/Resources/bin/R CMD build --keep-empty-dirs --no-resave-data REDseq StartedAt: 2025-02-19 17:23:09 -0500 (Wed, 19 Feb 2025) EndedAt: 2025-02-19 17:23:38 -0500 (Wed, 19 Feb 2025) EllapsedTime: 29.3 seconds RetCode: 0 Status: OK PackageFile: REDseq_1.53.0.tar.gz PackageFileSize: 361.2 KiB