Package: REBET Version: 1.25.0 Command: E:\biocbuild\bbs-3.21-bioc\R\bin\R.exe CMD check --no-multiarch --install=check:REBET.install-out.txt --library=E:\biocbuild\bbs-3.21-bioc\R\library --no-vignettes --timings REBET_1.25.0.tar.gz StartedAt: 2025-02-21 04:51:22 -0500 (Fri, 21 Feb 2025) EndedAt: 2025-02-21 04:52:30 -0500 (Fri, 21 Feb 2025) EllapsedTime: 68.1 seconds RetCode: 0 Status: OK CheckDir: REBET.Rcheck Warnings: 0