Package: REBET Version: 1.25.0 Command: /home/biocbuild/bbs-3.21-bioc/R/bin/R CMD check --install=check:REBET.install-out.txt --library=/home/biocbuild/bbs-3.21-bioc/R/site-library --timings REBET_1.25.0.tar.gz StartedAt: 2025-02-21 01:04:55 -0500 (Fri, 21 Feb 2025) EndedAt: 2025-02-21 01:05:48 -0500 (Fri, 21 Feb 2025) EllapsedTime: 52.2 seconds RetCode: 0 Status: OK CheckDir: REBET.Rcheck Warnings: 0