Package: REBET Version: 1.25.0 Command: /Library/Frameworks/R.framework/Resources/bin/R CMD INSTALL REBET StartedAt: 2025-02-20 15:43:49 -0500 (Thu, 20 Feb 2025) EndedAt: 2025-02-20 15:43:59 -0500 (Thu, 20 Feb 2025) EllapsedTime: 9.8 seconds RetCode: 0 Status: OK