Package: REBET Version: 1.25.0 Command: /Library/Frameworks/R.framework/Resources/bin/R CMD check --install=check:REBET.install-out.txt --library=/Library/Frameworks/R.framework/Resources/library --no-vignettes --timings REBET_1.25.0.tar.gz StartedAt: 2025-02-20 22:40:37 -0500 (Thu, 20 Feb 2025) EndedAt: 2025-02-20 22:41:40 -0500 (Thu, 20 Feb 2025) EllapsedTime: 62.9 seconds RetCode: 0 Status: OK CheckDir: REBET.Rcheck Warnings: 0