Package: REBET Version: 1.25.0 Command: /Library/Frameworks/R.framework/Resources/bin/R CMD build --keep-empty-dirs --no-resave-data REBET StartedAt: 2025-02-20 17:21:43 -0500 (Thu, 20 Feb 2025) EndedAt: 2025-02-20 17:21:49 -0500 (Thu, 20 Feb 2025) EllapsedTime: 6.1 seconds RetCode: 0 Status: OK PackageFile: REBET_1.25.0.tar.gz PackageFileSize: 310.3 KiB