Package: RDRToolbox Version: 1.57.0 Command: E:\biocbuild\bbs-3.21-bioc\R\bin\R.exe CMD INSTALL RDRToolbox StartedAt: 2025-02-20 15:33:17 -0500 (Thu, 20 Feb 2025) EndedAt: 2025-02-20 15:33:29 -0500 (Thu, 20 Feb 2025) EllapsedTime: 12.1 seconds RetCode: 0 Status: OK