Package: RDRToolbox Version: 1.57.0 Command: chmod a+r RDRToolbox -R && E:\biocbuild\bbs-3.21-bioc\R\bin\R.exe CMD build --keep-empty-dirs --no-resave-data RDRToolbox StartedAt: 2025-02-20 21:08:55 -0500 (Thu, 20 Feb 2025) EndedAt: 2025-02-20 21:09:49 -0500 (Thu, 20 Feb 2025) EllapsedTime: 54.2 seconds RetCode: 0 Status: OK PackageFile: RDRToolbox_1.57.0.tar.gz PackageFileSize: 191 KiB