Package: RDRToolbox Version: 1.57.0 Command: rm -rf RDRToolbox.buildbin-libdir && mkdir RDRToolbox.buildbin-libdir && E:\biocbuild\bbs-3.21-bioc\R\bin\R.exe CMD INSTALL --build --library=RDRToolbox.buildbin-libdir RDRToolbox_1.57.0.tar.gz StartedAt: 2025-02-21 08:52:24 -0500 (Fri, 21 Feb 2025) EndedAt: 2025-02-21 08:52:38 -0500 (Fri, 21 Feb 2025) EllapsedTime: 14.0 seconds RetCode: 0 Status: OK PackageFile: RDRToolbox_1.57.0.zip PackageFileSize: 191.5 KiB