Package: RDRToolbox Version: 1.57.0 Command: /home/biocbuild/bbs-3.21-bioc/R/bin/R CMD INSTALL RDRToolbox StartedAt: 2025-02-20 15:11:53 -0500 (Thu, 20 Feb 2025) EndedAt: 2025-02-20 15:11:57 -0500 (Thu, 20 Feb 2025) EllapsedTime: 3.9 seconds RetCode: 0 Status: OK