Package: RDRToolbox Version: 1.57.0 Command: /home/biocbuild/bbs-3.21-bioc/R/bin/R CMD check --install=check:RDRToolbox.install-out.txt --library=/home/biocbuild/bbs-3.21-bioc/R/site-library --timings RDRToolbox_1.57.0.tar.gz StartedAt: 2025-02-21 01:04:24 -0500 (Fri, 21 Feb 2025) EndedAt: 2025-02-21 01:05:10 -0500 (Fri, 21 Feb 2025) EllapsedTime: 46.1 seconds RetCode: 0 Status: OK CheckDir: RDRToolbox.Rcheck Warnings: 0