Package: RDRToolbox Version: 1.57.0 Command: /Library/Frameworks/R.framework/Resources/bin/R CMD check --install=check:RDRToolbox.install-out.txt --library=/Library/Frameworks/R.framework/Resources/library --no-vignettes --timings --no-examples RDRToolbox_1.57.0.tar.gz StartedAt: 2025-02-20 22:40:05 -0500 (Thu, 20 Feb 2025) EndedAt: 2025-02-20 22:40:36 -0500 (Thu, 20 Feb 2025) EllapsedTime: 30.9 seconds RetCode: 0 Status: OK CheckDir: RDRToolbox.Rcheck Warnings: 0