Package: RDRToolbox Version: 1.57.0 Command: /Library/Frameworks/R.framework/Resources/bin/R CMD build --keep-empty-dirs --no-resave-data RDRToolbox StartedAt: 2025-02-20 17:56:31 -0500 (Thu, 20 Feb 2025) EndedAt: 2025-02-20 17:56:50 -0500 (Thu, 20 Feb 2025) EllapsedTime: 19.5 seconds RetCode: 0 Status: OK PackageFile: RDRToolbox_1.57.0.tar.gz PackageFileSize: 190.7 KiB