Package: RCyjs Version: 2.29.0 Command: E:\biocbuild\bbs-3.21-bioc\R\bin\R.exe CMD INSTALL RCyjs StartedAt: 2025-02-19 15:29:59 -0500 (Wed, 19 Feb 2025) EndedAt: 2025-02-19 15:31:33 -0500 (Wed, 19 Feb 2025) EllapsedTime: 94.4 seconds RetCode: 0 Status: OK