Package: RCyjs Version: 2.29.0 Command: E:\biocbuild\bbs-3.21-bioc\R\bin\R.exe CMD check --no-multiarch --install=check:RCyjs.install-out.txt --library=E:\biocbuild\bbs-3.21-bioc\R\library --no-vignettes --timings RCyjs_2.29.0.tar.gz StartedAt: 2025-02-19 04:25:31 -0500 (Wed, 19 Feb 2025) EndedAt: 2025-02-19 04:26:42 -0500 (Wed, 19 Feb 2025) EllapsedTime: 70.7 seconds RetCode: 0 Status: WARNINGS CheckDir: RCyjs.Rcheck Warnings: 1