Package: RCy3 Version: 2.27.0 Command: /Library/Frameworks/R.framework/Resources/bin/R CMD check --install=check:RCy3.install-out.txt --library=/Library/Frameworks/R.framework/Resources/library --no-vignettes --timings RCy3_2.27.0.tar.gz StartedAt: 2025-02-18 22:34:51 -0500 (Tue, 18 Feb 2025) EndedAt: 2025-02-18 22:36:26 -0500 (Tue, 18 Feb 2025) EllapsedTime: 94.8 seconds RetCode: 0 Status: OK CheckDir: RCy3.Rcheck Warnings: 0