Package: RCy3 Version: 2.27.0 Command: /Library/Frameworks/R.framework/Resources/bin/R CMD build --keep-empty-dirs --no-resave-data RCy3 StartedAt: 2025-02-18 17:54:28 -0500 (Tue, 18 Feb 2025) EndedAt: 2025-02-18 17:55:30 -0500 (Tue, 18 Feb 2025) EllapsedTime: 61.8 seconds RetCode: 0 Status: OK PackageFile: RCy3_2.27.0.tar.gz PackageFileSize: 6.457 MiB