Package: RCy3 Version: 2.27.0 Command: /Library/Frameworks/R.framework/Resources/bin/R CMD INSTALL RCy3 StartedAt: 2025-02-19 15:19:05 -0500 (Wed, 19 Feb 2025) EndedAt: 2025-02-19 15:19:10 -0500 (Wed, 19 Feb 2025) EllapsedTime: 5.0 seconds RetCode: 0 Status: OK