Package: RCy3 Version: 2.27.0 Command: /Library/Frameworks/R.framework/Resources/bin/R CMD build --keep-empty-dirs --no-resave-data RCy3 StartedAt: 2025-02-19 17:22:38 -0500 (Wed, 19 Feb 2025) EndedAt: 2025-02-19 17:22:59 -0500 (Wed, 19 Feb 2025) EllapsedTime: 20.3 seconds RetCode: 0 Status: OK PackageFile: RCy3_2.27.0.tar.gz PackageFileSize: 6.207 MiB