Package: RCX Version: 1.11.0 Command: /home/biocbuild/R/R/bin/R CMD build --keep-empty-dirs --no-resave-data RCX StartedAt: 2025-01-29 01:33:54 -0000 (Wed, 29 Jan 2025) EndedAt: 2025-01-29 01:34:27 -0000 (Wed, 29 Jan 2025) EllapsedTime: 33.0 seconds RetCode: 0 Status: OK PackageFile: RCX_1.11.0.tar.gz PackageFileSize: 4.673 MiB