Package: RCSL Version: 1.15.0 Command: chmod a+r RCSL -R && E:\biocbuild\bbs-3.21-bioc\R\bin\R.exe CMD build --keep-empty-dirs --no-resave-data RCSL StartedAt: 2025-02-19 21:05:08 -0500 (Wed, 19 Feb 2025) EndedAt: 2025-02-19 21:08:24 -0500 (Wed, 19 Feb 2025) EllapsedTime: 196.4 seconds RetCode: 0 Status: OK PackageFile: RCSL_1.15.0.tar.gz PackageFileSize: 1.823 MiB