Package: RCSL Version: 1.15.0 Command: /home/biocbuild/bbs-3.21-bioc/R/bin/R CMD check --install=check:RCSL.install-out.txt --library=/home/biocbuild/bbs-3.21-bioc/R/site-library --timings RCSL_1.15.0.tar.gz StartedAt: 2025-02-19 01:21:16 -0500 (Wed, 19 Feb 2025) EndedAt: 2025-02-19 01:28:27 -0500 (Wed, 19 Feb 2025) EllapsedTime: 430.7 seconds RetCode: 0 Status: OK CheckDir: RCSL.Rcheck Warnings: 0