Package: RCSL Version: 1.15.0 Command: /Library/Frameworks/R.framework/Resources/bin/R CMD check --install=check:RCSL.install-out.txt --library=/Library/Frameworks/R.framework/Resources/library --no-vignettes --timings RCSL_1.15.0.tar.gz StartedAt: 2025-02-19 20:59:16 -0500 (Wed, 19 Feb 2025) EndedAt: 2025-02-19 21:01:47 -0500 (Wed, 19 Feb 2025) EllapsedTime: 151.1 seconds RetCode: 0 Status: OK CheckDir: RCSL.Rcheck Warnings: 0