Package: RCM Version: 1.23.0 Command: /home/biocbuild/bbs-3.21-bioc/R/bin/R CMD build --keep-empty-dirs --no-resave-data RCM StartedAt: 2025-02-20 18:52:58 -0500 (Thu, 20 Feb 2025) EndedAt: 2025-02-20 18:53:48 -0500 (Thu, 20 Feb 2025) EllapsedTime: 50.0 seconds RetCode: 0 Status: OK PackageFile: RCM_1.23.0.tar.gz PackageFileSize: 4.154 MiB