Package: RCM Version: 1.23.0 Command: /home/biocbuild/R/R/bin/R CMD build --keep-empty-dirs --no-resave-data RCM StartedAt: 2025-01-29 01:32:35 -0000 (Wed, 29 Jan 2025) EndedAt: 2025-01-29 01:33:54 -0000 (Wed, 29 Jan 2025) EllapsedTime: 79.0 seconds RetCode: 0 Status: OK PackageFile: RCM_1.23.0.tar.gz PackageFileSize: 3.134 MiB