Package: RCASPAR Version: 1.53.0 Command: E:\biocbuild\bbs-3.21-bioc\R\bin\R.exe CMD INSTALL RCASPAR StartedAt: 2025-02-20 15:20:54 -0500 (Thu, 20 Feb 2025) EndedAt: 2025-02-20 15:21:11 -0500 (Thu, 20 Feb 2025) EllapsedTime: 17.5 seconds RetCode: 0 Status: OK