Package: RCASPAR Version: 1.53.0 Command: chmod a+r RCASPAR -R && E:\biocbuild\bbs-3.21-bioc\R\bin\R.exe CMD build --keep-empty-dirs --no-resave-data RCASPAR StartedAt: 2025-02-20 21:07:48 -0500 (Thu, 20 Feb 2025) EndedAt: 2025-02-20 21:08:02 -0500 (Thu, 20 Feb 2025) EllapsedTime: 13.9 seconds RetCode: 0 Status: OK PackageFile: RCASPAR_1.53.0.tar.gz PackageFileSize: 206 KiB