Package: RCASPAR Version: 1.53.0 Command: rm -rf RCASPAR.buildbin-libdir && mkdir RCASPAR.buildbin-libdir && E:\biocbuild\bbs-3.21-bioc\R\bin\R.exe CMD INSTALL --build --library=RCASPAR.buildbin-libdir RCASPAR_1.53.0.tar.gz StartedAt: 2025-02-21 08:52:03 -0500 (Fri, 21 Feb 2025) EndedAt: 2025-02-21 08:52:21 -0500 (Fri, 21 Feb 2025) EllapsedTime: 17.6 seconds RetCode: 0 Status: OK PackageFile: RCASPAR_1.53.0.zip PackageFileSize: 280 KiB