Package: RCASPAR Version: 1.53.0 Command: /home/biocbuild/bbs-3.21-bioc/R/bin/R CMD build --keep-empty-dirs --no-resave-data RCASPAR StartedAt: 2025-02-20 18:52:52 -0500 (Thu, 20 Feb 2025) EndedAt: 2025-02-20 18:52:58 -0500 (Thu, 20 Feb 2025) EllapsedTime: 6.0 seconds RetCode: 0 Status: OK PackageFile: RCASPAR_1.53.0.tar.gz PackageFileSize: 305.2 KiB