Package: RCASPAR Version: 1.53.0 Command: rm -rf RCASPAR.buildbin-libdir && mkdir RCASPAR.buildbin-libdir && /Users/biocbuild/BBS/utils/build-universal.sh RCASPAR_1.53.0.tar.gz /Library/Frameworks/R.framework/Resources/bin/R RCASPAR.buildbin-libdir StartedAt: 2025-02-20 22:31:17 -0500 (Thu, 20 Feb 2025) EndedAt: 2025-02-20 22:31:19 -0500 (Thu, 20 Feb 2025) EllapsedTime: 2.1 seconds RetCode: 0 Status: OK PackageFile: RCASPAR_1.53.0.tgz PackageFileSize: 376.6 KiB