Package: RCAS Version: 1.33.0 Command: /home/biocbuild/bbs-3.21-bioc/R/bin/R CMD INSTALL RCAS StartedAt: 2025-02-17 15:37:57 -0500 (Mon, 17 Feb 2025) EndedAt: 2025-02-17 15:38:44 -0500 (Mon, 17 Feb 2025) EllapsedTime: 46.2 seconds RetCode: 0 Status: OK