Package: RCAS Version: 1.33.0 Command: /home/biocbuild/bbs-3.21-bioc/R/bin/R CMD check --install=check:RCAS.install-out.txt --library=/home/biocbuild/bbs-3.21-bioc/R/site-library --timings RCAS_1.33.0.tar.gz StartedAt: 2025-02-18 01:23:37 -0500 (Tue, 18 Feb 2025) EndedAt: 2025-02-18 01:35:22 -0500 (Tue, 18 Feb 2025) EllapsedTime: 704.5 seconds RetCode: 0 Status: OK CheckDir: RCAS.Rcheck Warnings: 0