Package: RCAS Version: 1.33.0 Command: /Library/Frameworks/R.framework/Resources/bin/R CMD INSTALL RCAS StartedAt: 2025-02-17 15:16:18 -0500 (Mon, 17 Feb 2025) EndedAt: 2025-02-17 15:16:37 -0500 (Mon, 17 Feb 2025) EllapsedTime: 18.6 seconds RetCode: 0 Status: OK