Package: RCAS Version: 1.33.0 Command: /Library/Frameworks/R.framework/Resources/bin/R CMD build --keep-empty-dirs --no-resave-data RCAS StartedAt: 2025-02-17 17:19:37 -0500 (Mon, 17 Feb 2025) EndedAt: 2025-02-17 17:20:47 -0500 (Mon, 17 Feb 2025) EllapsedTime: 70.8 seconds RetCode: 0 Status: OK PackageFile: RCAS_1.33.0.tar.gz PackageFileSize: 1.596 MiB