Package: RCAS Version: 1.33.0 Command: rm -rf RCAS.buildbin-libdir && mkdir RCAS.buildbin-libdir && /Users/biocbuild/BBS/utils/build-universal.sh RCAS_1.33.0.tar.gz /Library/Frameworks/R.framework/Resources/bin/R RCAS.buildbin-libdir StartedAt: 2025-02-17 22:29:47 -0500 (Mon, 17 Feb 2025) EndedAt: 2025-02-17 22:30:07 -0500 (Mon, 17 Feb 2025) EllapsedTime: 20.5 seconds RetCode: 0 Status: OK PackageFile: RCAS_1.33.0.tgz PackageFileSize: 2.051 MiB