Package: RBioinf Version: 1.67.0 Command: /home/biocbuild/bbs-3.21-bioc/R/bin/R CMD check --install=check:RBioinf.install-out.txt --library=/home/biocbuild/bbs-3.21-bioc/R/site-library --timings RBioinf_1.67.0.tar.gz StartedAt: 2025-02-20 01:34:49 -0500 (Thu, 20 Feb 2025) EndedAt: 2025-02-20 01:35:13 -0500 (Thu, 20 Feb 2025) EllapsedTime: 24.0 seconds RetCode: 0 Status: OK CheckDir: RBioinf.Rcheck Warnings: 0