Package: RBioinf Version: 1.67.0 Command: /Library/Frameworks/R.framework/Resources/bin/R CMD check --install=check:RBioinf.install-out.txt --library=/Library/Frameworks/R.framework/Resources/library --no-vignettes --timings RBioinf_1.67.0.tar.gz StartedAt: 2025-02-20 22:38:38 -0500 (Thu, 20 Feb 2025) EndedAt: 2025-02-20 22:39:10 -0500 (Thu, 20 Feb 2025) EllapsedTime: 32.4 seconds RetCode: 0 Status: OK CheckDir: RBioinf.Rcheck Warnings: 0