Package: RBioinf Version: 1.67.0 Command: /Library/Frameworks/R.framework/Resources/bin/R CMD build --keep-empty-dirs --no-resave-data RBioinf StartedAt: 2025-02-20 17:55:05 -0500 (Thu, 20 Feb 2025) EndedAt: 2025-02-20 17:55:21 -0500 (Thu, 20 Feb 2025) EllapsedTime: 16.1 seconds RetCode: 0 Status: OK PackageFile: RBioinf_1.67.0.tar.gz PackageFileSize: 3.544 MiB