Package: RBioinf Version: 1.67.0 Command: rm -rf RBioinf.buildbin-libdir && mkdir RBioinf.buildbin-libdir && /Users/biocbuild/BBS/utils/build-universal.sh RBioinf_1.67.0.tar.gz /Library/Frameworks/R.framework/Resources/bin/R RBioinf.buildbin-libdir StartedAt: 2025-02-21 00:47:35 -0500 (Fri, 21 Feb 2025) EndedAt: 2025-02-21 00:47:48 -0500 (Fri, 21 Feb 2025) EllapsedTime: 12.9 seconds RetCode: 0 Status: OK PackageFile: RBioinf_1.67.0.tgz PackageFileSize: 3.594 MiB