Package: RBioFormats Version: 1.7.0 Command: E:\biocbuild\bbs-3.21-bioc\R\bin\R.exe CMD check --no-multiarch --install=check:RBioFormats.install-out.txt --library=E:\biocbuild\bbs-3.21-bioc\R\library --no-vignettes --timings RBioFormats_1.7.0.tar.gz StartedAt: 2025-02-19 04:22:59 -0500 (Wed, 19 Feb 2025) EndedAt: 2025-02-19 04:24:38 -0500 (Wed, 19 Feb 2025) EllapsedTime: 98.5 seconds RetCode: 0 Status: OK CheckDir: RBioFormats.Rcheck Warnings: 0