Package: RBioFormats Version: 1.7.0 Command: rm -rf RBioFormats.buildbin-libdir && mkdir RBioFormats.buildbin-libdir && E:\biocbuild\bbs-3.21-bioc\R\bin\R.exe CMD INSTALL --build --library=RBioFormats.buildbin-libdir RBioFormats_1.7.0.tar.gz StartedAt: 2025-02-19 08:10:35 -0500 (Wed, 19 Feb 2025) EndedAt: 2025-02-19 08:11:08 -0500 (Wed, 19 Feb 2025) EllapsedTime: 33.2 seconds RetCode: 0 Status: OK PackageFile: RBioFormats_1.7.0.zip PackageFileSize: 525.6 KiB