Package: RBioFormats Version: 1.7.0 Command: /Library/Frameworks/R.framework/Resources/bin/R CMD build --keep-empty-dirs --no-resave-data RBioFormats StartedAt: 2025-02-18 17:53:12 -0500 (Tue, 18 Feb 2025) EndedAt: 2025-02-18 17:53:34 -0500 (Tue, 18 Feb 2025) EllapsedTime: 21.8 seconds RetCode: 0 Status: OK PackageFile: RBioFormats_1.7.0.tar.gz PackageFileSize: 320.3 KiB