Package: RBioFormats Version: 1.7.0 Command: /Library/Frameworks/R.framework/Resources/bin/R CMD INSTALL RBioFormats StartedAt: 2025-02-19 15:15:14 -0500 (Wed, 19 Feb 2025) EndedAt: 2025-02-19 15:15:18 -0500 (Wed, 19 Feb 2025) EllapsedTime: 4.2 seconds RetCode: 0 Status: OK