Package: RBioFormats Version: 1.7.0 Command: /Library/Frameworks/R.framework/Resources/bin/R CMD check --install=check:RBioFormats.install-out.txt --library=/Library/Frameworks/R.framework/Resources/library --no-vignettes --timings RBioFormats_1.7.0.tar.gz StartedAt: 2025-02-18 20:59:05 -0500 (Tue, 18 Feb 2025) EndedAt: 2025-02-18 20:59:37 -0500 (Tue, 18 Feb 2025) EllapsedTime: 31.4 seconds RetCode: 0 Status: OK CheckDir: RBioFormats.Rcheck Warnings: 0