Package: RBM Version: 1.39.0 Command: E:\biocbuild\bbs-3.21-bioc\R\bin\R.exe CMD INSTALL RBM StartedAt: 2025-02-20 15:24:13 -0500 (Thu, 20 Feb 2025) EndedAt: 2025-02-20 15:24:20 -0500 (Thu, 20 Feb 2025) EllapsedTime: 7.0 seconds RetCode: 0 Status: OK