Package: RBM Version: 1.39.0 Command: /Library/Frameworks/R.framework/Resources/bin/R CMD INSTALL RBM StartedAt: 2025-02-20 15:06:57 -0500 (Thu, 20 Feb 2025) EndedAt: 2025-02-20 15:07:23 -0500 (Thu, 20 Feb 2025) EllapsedTime: 26.2 seconds RetCode: 0 Status: OK