Package: RBM Version: 1.39.0 Command: /Library/Frameworks/R.framework/Resources/bin/R CMD check --install=check:RBM.install-out.txt --library=/Library/Frameworks/R.framework/Resources/library --no-vignettes --timings RBM_1.39.0.tar.gz StartedAt: 2025-02-20 22:38:53 -0500 (Thu, 20 Feb 2025) EndedAt: 2025-02-20 22:39:48 -0500 (Thu, 20 Feb 2025) EllapsedTime: 55.7 seconds RetCode: 0 Status: OK CheckDir: RBM.Rcheck Warnings: 0